BEGIN:VCALENDAR
VERSION:2.0
PRODID:icalendar-ruby
CALSCALE:GREGORIAN
METHOD:PUBLISH
BEGIN:VEVENT
DTSTAMP:20260424T063829Z
UID:23-222777@faithumcwi.org
DTSTART:20260507T170000Z
DTEND:20260507T180000Z
CLASS:PUBLIC
CREATED:20260421T091853
DESCRIPTION:Please join us as we pray and praise! Our prayers will include 
 our Government\, Military\, Media\, Business\, Education\, Church\, and Fa
 mily. Bring a lawn chair if you wish to sit during the program.
LAST-MODIFIED:20260421T091853
LOCATION:Memorial Park Amphitheater\, Rain location: Veteran's Pavilion
SUMMARY:Rusk County National Day of Prayer Event
URL;VALUE=URI:https://www.faithumcwi.org/events/rusk-county-national-day-of
 -prayer-event/2026-05-07
END:VEVENT
END:VCALENDAR
