BEGIN:VCALENDAR
VERSION:2.0
PRODID:icalendar-ruby
CALSCALE:GREGORIAN
METHOD:PUBLISH
BEGIN:VEVENT
DTSTAMP:20260424T041318Z
UID:24-224521@faithumcwi.org
DTSTART:20261025T150000Z
DTEND:20261025T160000Z
CLASS:PUBLIC
CREATED:20260423T221039
DESCRIPTION:Come to church early and enjoy some coffee and conversation. Th
 ere may even be some yummy treats!
LAST-MODIFIED:20260423T221039
LOCATION:Faith United Methodist Church W8125 Shady Ln\, Ladysmith
SUMMARY:Coffee and Conversation
URL;VALUE=URI:https://www.faithumcwi.org/events/coffee-and-conversation/202
 6-10-25
END:VEVENT
END:VCALENDAR
