BEGIN:VCALENDAR
VERSION:2.0
PRODID:icalendar-ruby
CALSCALE:GREGORIAN
METHOD:PUBLISH
BEGIN:VEVENT
DTSTAMP:20260423T175140Z
UID:24-224109@faithumcwi.org
DTSTART:20260830T150000Z
DTEND:20260830T160000Z
CLASS:PUBLIC
CREATED:20260423T103122
DESCRIPTION:Come to church early and enjoy some coffee and conversation. Th
 ere may even be some yummy treats!
LAST-MODIFIED:20260423T103122
LOCATION:Faith United Methodist Church W8125 Shady Ln\, Ladysmith
SUMMARY:Coffee and Conversation
URL;VALUE=URI:https://www.faithumcwi.org/events/coffee-and-conversation/202
 6-08-30
END:VEVENT
END:VCALENDAR
