BEGIN:VCALENDAR
VERSION:2.0
PRODID:icalendar-ruby
CALSCALE:GREGORIAN
METHOD:PUBLISH
BEGIN:VEVENT
DTSTAMP:20260423T043832Z
UID:24-223898@faithumcwi.org
DTSTART:20260628T150000Z
DTEND:20260628T160000Z
CLASS:PUBLIC
CREATED:20260422T220842
DESCRIPTION:Come to church early and enjoy some coffee and conversation. Th
 ere may even be some yummy treats!
LAST-MODIFIED:20260422T220842
LOCATION:Faith United Methodist Church W8125 Shady Ln\, Ladysmith
SUMMARY:Coffee and Conversation
URL;VALUE=URI:https://www.faithumcwi.org/events/coffee-and-conversation/202
 6-06-28
END:VEVENT
END:VCALENDAR
