BEGIN:VCALENDAR
VERSION:2.0
PRODID:icalendar-ruby
CALSCALE:GREGORIAN
METHOD:PUBLISH
BEGIN:VEVENT
DTSTAMP:20260422T222503Z
UID:24-223692@faithumcwi.org
DTSTART:20260531T150000Z
DTEND:20260531T160000Z
CLASS:PUBLIC
CREATED:20260422T162251
DESCRIPTION:Come to church early and enjoy some coffee and conversation. Th
 ere may even be some yummy treats!
LAST-MODIFIED:20260422T162251
LOCATION:Faith United Methodist Church W8125 Shady Ln\, Ladysmith
SUMMARY:Coffee and Conversation
URL;VALUE=URI:https://www.faithumcwi.org/events/coffee-and-conversation/202
 6-05-31
END:VEVENT
END:VCALENDAR
