BEGIN:VCALENDAR
VERSION:2.0
PRODID:icalendar-ruby
CALSCALE:GREGORIAN
METHOD:PUBLISH
BEGIN:VEVENT
DTSTAMP:20260422T144844Z
UID:24-223384@faithumcwi.org
DTSTART:20260426T150000Z
DTEND:20260426T160000Z
CLASS:PUBLIC
CREATED:20260422T073737
DESCRIPTION:Come to church early and enjoy some coffee and conversation. Th
 ere may even be some yummy treats!
LAST-MODIFIED:20260422T073737
LOCATION:Faith United Methodist Church W8125 Shady Ln\, Ladysmith
SUMMARY:Coffee and Conversation
URL;VALUE=URI:https://www.faithumcwi.org/events/coffee-and-conversation/202
 6-04-26
END:VEVENT
END:VCALENDAR
